BEGIN:VCALENDAR
VERSION:2.0
PRODID:-//https://www.uxbridgecollege.ac.uk///NONSGML kigkonsult.se iCalcreator 2.10.15//
METHOD:PUBLISH
BEGIN:VEVENT
UID:20260424T175343UTC-9359HlmOEH@https://www.uxbridgecollege.ac.uk/
DTSTAMP:20260424T175343Z
DESCRIPTION:Our Open Events provide prospective students and parents/guardi
 ans with an opportunity to find out what the College can offer to support 
 students on their learning journey.\nWednesday 10 June 2026 | 16:00-19:00 
 pm | Uxbridge Campus\nBOOK NOW\n\nWhat to expect at our Open Events&nbsp\;
 \n\nFind out about the courses on offer for school leavers and adults&nbsp
 \;\nSpeak to tutors\nView the fantastic facilities that you will study in 
 at our Uxbridge Campus\nSee examples of student work\nApply for a course\n
 Come along for our Welcome Talk&nbsp\;\nJoin a talk with our Apprenticeshi
 p Team to get all the details about how they can kick-start your career.\n
 \nTake a peek into our Immersive Room\nWe have invested in some amazing te
 ch to develop state-of-the-art classrooms which connect students across Ha
 rrow\, Richmond and Uxbridge Colleges and beyond. These spaces are also pr
 oviding new exciting opportunities to learn and gain hands-on experience w
 ith VR.&nbsp\;\nWe look forward to seeing you!\nTickets\nPlease book 1 tic
 ket for each potential student only. Tickets do not need to be booked for 
 parents or carers attending with the potential student.\nBOOK NOW https://
 www.uxbridgecollege.ac.uk/news-events/events/event/240-open-day-at-uxbridg
 e-campus
DTSTART:20260610T150000Z
DTEND:20260610T180000Z
LOCATION:Uxbridge Campus\, Park Road Uxbridge\, UB8 1NQ ()
SUMMARY:Open Day at Uxbridge Campus
URL:https://www.uxbridgecollege.ac.uk/news-events/events/event/240-open-day
 -at-uxbridge-campus
END:VEVENT
END:VCALENDAR
